BEGIN:VCALENDAR
PRODID:-//eluceo/ical//2.0/EN
VERSION:2.0
CALSCALE:GREGORIAN
BEGIN:VEVENT
UID:f0bc69d0d20654c3e955f94c226cfc5b
DTSTAMP:20260419T224954Z
SUMMARY:Mary and Samuel Hamelsky Music Program - Becky Mann
DESCRIPTION:Jewish Federation in the Heart of New Jersey\nEvents\nhttps://j
 ewishheartnj.org/events/mary-and-samuel-hamelsky-music-program---becky-man
 n-1695068249\n\nComposer\, guitarist\, and recently-ordained cantor from t
 he Debbie Friedman School of Sacred Music at Hebrew Union College-Jewish I
 nstitute of Religion\, Becky Mann has been called "one of the brightest vo
 ices of a new generation of Jewish songwriters carrying our tradition forw
 ard in new and exciting ways." Inspired by the richness of Jewish texts an
 d liturgy\, her contemporary songs give new life to ancient words. Becky h
 as composed music for synagogue choirs\, cantors\, acapella ensembles\, an
 d ...
DTSTART;TZID=America/New_York:20231118T200000
DTEND;TZID=America/New_York:20231118T213000
END:VEVENT
END:VCALENDAR
