BEGIN:VCALENDAR
PRODID:-//eluceo/ical//2.0/EN
VERSION:2.0
CALSCALE:GREGORIAN
BEGIN:VEVENT
UID:23fcb265e5dfb0038d506e116125097f
DTSTAMP:20260424T092641Z
SUMMARY:Mahjong - All Levels!
DESCRIPTION:Jewish Federation in the Heart of New Jersey\nEvents\nhttps://j
 ewishheartnj.org/events/mahjong---all-levels-1673543312\n\nCome join us fo
 r Mahjong at CBI! All levels are welcomed and those looking to learn the g
 ame. We plan to meet monthly!
DTSTART;TZID=America/New_York:20230123T120000
DTEND;TZID=America/New_York:20230123T140000
END:VEVENT
END:VCALENDAR
