BEGIN:VCALENDAR
PRODID:-//eluceo/ical//2.0/EN
VERSION:2.0
CALSCALE:GREGORIAN
BEGIN:VEVENT
UID:f63d9e9384588ed5d956891821955875
DTSTAMP:20260422T095119Z
SUMMARY:Mah Jongg Tournament
DESCRIPTION:Jewish Federation in the Heart of New Jersey\nEvents\nhttps://j
 ewishheartnj.org/events/mah-jongg-tournament-1679080776\n\nDoors Open at 9
 :15am\nPlay begins promptly at 10:00am\nSix Rounds of Play\nCash Prizes fo
 r both morning and afternoon winners\nContinental breakfast\, lunch and sn
 acks served\nGive-a-ways\, silent auction and cash raffle!\nAll players MU
 ST be able to complete 4 games in 50 minutes\n$65 per person
DTSTART;TZID=America/New_York:20230507T100000
DTEND;TZID=America/New_York:20230507T160000
END:VEVENT
END:VCALENDAR
