BEGIN:VCALENDAR
PRODID:-//eluceo/ical//2.0/EN
VERSION:2.0
CALSCALE:GREGORIAN
BEGIN:VEVENT
UID:3da417d891c65190e223437ea8524327
DTSTAMP:20260422T235620Z
SUMMARY:Listen To Your Mother
DESCRIPTION:Jewish Federation in the Heart of New Jersey\nEvents\nhttps://j
 ewishheartnj.org/events/listen-to-your-mother-1679407402\n\nJoin us for an
  exciting night of storytelling by local writers on all aspects of motherh
 ood.\n\nhttps://www.edisontemple.org/form/listen-to-your-mother-2023
DTSTART;TZID=America/New_York:20230513T190000
DTEND;TZID=America/New_York:20230513T210000
END:VEVENT
END:VCALENDAR
