BEGIN:VCALENDAR
PRODID:-//eluceo/ical//2.0/EN
VERSION:2.0
CALSCALE:GREGORIAN
BEGIN:VEVENT
UID:4fa4ddbf603678943f7c31e44757ad56
DTSTAMP:20260420T002434Z
SUMMARY:Let's Weave!
DESCRIPTION:Jewish Federation in the Heart of New Jersey\nEvents\nhttps://j
 ewishheartnj.org/events/lets-weave-1707928641\n\nJoin Temple Emanu-El of E
 dison for "Let&#39\;s Weave". Learn how to weave your own tallit or challa
 h cover using the loom location at Neve Shalom. No experience necessary. 
 Fun for all ages!
DTSTART;TZID=America/New_York:20240225T100000
DTEND;TZID=America/New_York:20240225T110000
END:VEVENT
END:VCALENDAR
