BEGIN:VCALENDAR
PRODID:-//eluceo/ical//2.0/EN
VERSION:2.0
CALSCALE:GREGORIAN
BEGIN:VEVENT
UID:b53f90032a42c2f1a3e3c118fabcb271
DTSTAMP:20260424T032359Z
SUMMARY:"Leonard Cohen - Judiasm in Song"
DESCRIPTION:Jewish Federation in the Heart of New Jersey\nEvents\nhttps://j
 ewishheartnj.org/events/leonard-cohen---judiasm-in-song-1679263614\n\nThe 
 East Brunswick Jewish Center and the Board of Directors invite you to a ve
 ry special event featuring \nRabbi Ron Isaacs on Leonard Cohen - Judiasm i
 n Song.\n\nLeonard Cohen was the quintessential Jewish composer of our tim
 e\, perhaps even more than Bob Dylan.  \nHe was not only an entertainer\, 
 song writer and poet\,  but a man with his own unique Torah.\nThrough film
 \, guitar and voice\, Rabbi Ron Isaacs will present several of Cohen's son
 gs with religious themes and illustrate their...
DTSTART;TZID=America/New_York:20230430T093000
DTEND;TZID=America/New_York:20230430T120000
END:VEVENT
END:VCALENDAR
