BEGIN:VCALENDAR
PRODID:-//eluceo/ical//2.0/EN
VERSION:2.0
CALSCALE:GREGORIAN
BEGIN:VEVENT
UID:fc1b63c1bf278eb9d1f57d9a3d0d3b49
DTSTAMP:20260425T131020Z
SUMMARY:Latkes and Vodkas
DESCRIPTION:Jewish Federation in the Heart of New Jersey\nEvents\nhttps://j
 ewishheartnj.org/events/latkes-and-vodkas-1699980381\n\nJoin us for a nigh
 t of music\, fun and food. Featuring music with Cantor Summer and Dave Lib
 enson. Latkes\, gelt\, dessert\, appetizers and drinks will be served.
DTSTART;TZID=America/New_York:20231209T200000
DTEND;TZID=America/New_York:20231209T220000
END:VEVENT
END:VCALENDAR
