BEGIN:VCALENDAR
PRODID:-//eluceo/ical//2.0/EN
VERSION:2.0
CALSCALE:GREGORIAN
BEGIN:VEVENT
UID:1249433087c0f5e7364258667514f812
DTSTAMP:20260423T111055Z
SUMMARY:Kareoke Night
DESCRIPTION:Jewish Federation in the Heart of New Jersey\nEvents\nhttps://j
 ewishheartnj.org/events/kareoke-night-1675815498\n\nJoin us at Temple Beth
  Shalom for a night of fun with Karoke\, singing and dancing.
DTSTART;TZID=America/New_York:20230304T190000
DTEND;TZID=America/New_York:20230304T220000
END:VEVENT
END:VCALENDAR
