BEGIN:VCALENDAR
PRODID:-//eluceo/ical//2.0/EN
VERSION:2.0
CALSCALE:GREGORIAN
BEGIN:VEVENT
UID:897bf4c52741707e447b73604978410f
DTSTAMP:20260423T014024Z
SUMMARY:Join us to Honor Marvin & Bernice Stern
DESCRIPTION:Jewish Federation in the Heart of New Jersey\nEvents\nhttps://j
 ewishheartnj.org/events/join-us-to-honor-marvin--bernice-stern-1684249545\
 n\nJoin us for a catered dairy brunch to Honor our esteemed Shofar Blower 
 and his "Bride"\, Marvin and Bernice Stern.\n\nCost: $36 per person\n\nRSV
 P by Monday\, June 19th to the Shul Office.
DTSTART;TZID=America/New_York:20230625T113000
DTEND;TZID=America/New_York:20230625T133000
END:VEVENT
END:VCALENDAR
