BEGIN:VCALENDAR
PRODID:-//eluceo/ical//2.0/EN
VERSION:2.0
CALSCALE:GREGORIAN
BEGIN:VEVENT
UID:2fd82b3043ec75a2970349b9e3494250
DTSTAMP:20260425T151641Z
SUMMARY:Join Temple Emanu-El of Edison As We Honor Those Who Have Served
DESCRIPTION:Jewish Federation in the Heart of New Jersey\nEvents\nhttps://j
 ewishheartnj.org/events/join-temple-emanu-el-of-edison-as-we-honor-those-w
 ho-have-served-1667333126\n\nJoin Temple Emanu-El of Edison for this very 
 special Shabbat Service as we commemorate Kristallnacht and Honor Those Wh
 o Have Served. All are welcome!
DTSTART;TZID=America/New_York:20221111T190000
DTEND;TZID=America/New_York:20221111T203000
END:VEVENT
END:VCALENDAR
