BEGIN:VCALENDAR
PRODID:-//eluceo/ical//2.0/EN
VERSION:2.0
CALSCALE:GREGORIAN
BEGIN:VEVENT
UID:23bb5c74a1c54b59648e5564d63d1ab0
DTSTAMP:20260426T023759Z
SUMMARY:John Pizzarelli sings Frank Sinatra
DESCRIPTION:Jewish Federation in the Heart of New Jersey\nEvents\nhttps://j
 ewishheartnj.org/events/john-pizzarelli-sings-frank-sinatra-1657743006\n\n
 With a repertoire that includes Frank Sinatra\, Joni Mitchell\, Neil Young
 \, Tom Waits\, Antônio Carlos Jobim and The Beatles\, he has been hailed 
 by The Boston Globe for “reinvigorating the Great American Songbook and 
 re-popularizing jazz.” The Toronto Star pegged him as “the genial geni
 us of the guitar.” And The Seattle Times saluted him as “a rare entert
 ainer of the old school.” He has two albums dedicated to Frank Sinatra: 
 “Dear Mr. Sinatra” and “Sinatra & Jobin @ 50.”
DTSTART;TZID=America/New_York:20220811T200000
DTEND;TZID=America/New_York:20220811T220000
END:VEVENT
END:VCALENDAR
