BEGIN:VCALENDAR
PRODID:-//eluceo/ical//2.0/EN
VERSION:2.0
CALSCALE:GREGORIAN
BEGIN:VEVENT
UID:4ccd74ca418edda702fcb0b24079df1e
DTSTAMP:20260425T180930Z
SUMMARY:John Kenrick Presents: Eartha Kitt "I Never Take Anything for Grant
 ed"
DESCRIPTION:Jewish Federation in the Heart of New Jersey\nEvents\nhttps://j
 ewishheartnj.org/events/john-kenrick-presents-eartha-kitt-i-never-take-any
 thing-for-granted-1669667555\n\nCome in person or join via zoom to listen 
 to a John Kenrick presentation. Born to crushing poverty in the cotton fie
 lds of South Carolia\, this singular black performer became the toast of c
 abarets and Broadway before ruffling feathers in the Johnson White House a
 nd becoming a cultural icon as Batman&#39\;s Cat Woman. We will take an en
 tertaining look at Eartha Kitt&#39\;s personal life and dazzling career.
DTSTART;TZID=America/New_York:20230228T133000
DTEND;TZID=America/New_York:20230228T150000
END:VEVENT
END:VCALENDAR
