BEGIN:VCALENDAR
PRODID:-//eluceo/ical//2.0/EN
VERSION:2.0
CALSCALE:GREGORIAN
BEGIN:VEVENT
UID:56732a928e0f820f2937c76ac85f0f97
DTSTAMP:20260423T065723Z
SUMMARY:John Kenrick Presents: Carol Channing "It's All in How You Use It"
DESCRIPTION:Jewish Federation in the Heart of New Jersey\nEvents\nhttps://j
 ewishheartnj.org/events/john-kenrick-presents-carol-channing-its-all-in-ho
 w-you-use-it-1669667882\n\nCome in person or join via zoom.\nCarol Channin
 g with her quirky voice\, saucer eyes and flawless timing\, this comedienn
 e became a Broadway favorite in &#39\;Gentlemen Prefer Blondes&#39\; and &
 #39\;Hello Dolly!&#39\; Theater historian John Kenrick will offer rare per
 formance videos and hilarious backstage stories\, as well as personal memo
 ries of this larger than life star.
DTSTART;TZID=America/New_York:20230321T133000
DTEND;TZID=America/New_York:20230321T143000
END:VEVENT
END:VCALENDAR
