BEGIN:VCALENDAR
PRODID:-//eluceo/ical//2.0/EN
VERSION:2.0
CALSCALE:GREGORIAN
BEGIN:VEVENT
UID:60e4787fc173593c4c75d83d202c9a2a
DTSTAMP:20260424T222147Z
SUMMARY:John Kenrick Presents Angela Lansbury: Ever a Surprise
DESCRIPTION:Jewish Federation in the Heart of New Jersey\nEvents\nhttps://j
 ewishheartnj.org/events/john-kenrick-presents-angela-lansbury-ever-a-surpr
 ise-1669667048\n\nHow did this British native become a lasting favorite in
  Hollywood films like &#39\;Picture of Dorian Gray&#39\; and &#39\;Beauty 
 and the Beast&#39\;? What led to her Broadway stardom in in such musicals 
 as &#39\;Mame&#39\; and &#39\;Sweeney Todd? And how did she follow this wi
 th a dozen season&#39\;s run in the TV mystery series &#39\;Murder\, She W
 rote&#39\;?\nJohn Kenrick returns to offer an affectionate multimedia trib
 ute to this beloved star.
DTSTART;TZID=America/New_York:20230124T133000
DTEND;TZID=America/New_York:20230124T150000
END:VEVENT
END:VCALENDAR
