BEGIN:VCALENDAR
PRODID:-//eluceo/ical//2.0/EN
VERSION:2.0
CALSCALE:GREGORIAN
BEGIN:VEVENT
UID:0974d4c1121be9bfb5d51da9a7a3b5c7
DTSTAMP:20260426T040208Z
SUMMARY:Jewish Travel - "The Old Jewish Quarter of London"
DESCRIPTION:Jewish Federation in the Heart of New Jersey\nEvents\nhttps://j
 ewishheartnj.org/events/jewish-travel---the-old-jewish-quarter-of-london-1
 674509885\n\nThis is the third free Zoom event in a series of "Travel the 
 Jewish World Virtually With Us."  This one will focus on The Old Jewish Qu
 arter in London\, moderated by Stephen Burstin.\n\nThis is a free Zoom eve
 nt but you must register on the EBJC website:    ebjc.org and look on the 
 right hand side of the page for "Travel Series" and fill out the form.
DTSTART;TZID=America/New_York:20230312T130000
DTEND;TZID=America/New_York:20230312T143000
END:VEVENT
END:VCALENDAR
