BEGIN:VCALENDAR
PRODID:-//eluceo/ical//2.0/EN
VERSION:2.0
CALSCALE:GREGORIAN
BEGIN:VEVENT
UID:bb8265752e51427e9bd095917163852c
DTSTAMP:20260423T065953Z
SUMMARY:Jewish Teens Volunteer at TBS Cares Day
DESCRIPTION:Jewish Federation in the Heart of New Jersey\nEvents\nhttps://j
 ewishheartnj.org/events/jewish-teens-volunteer-at-tbs-cares-day-1678396926
 \n\nAt this mitzvah day\, teens have an opportunity to volunteer with a va
 riety of activities\, from a Basketball Game that raises money for charity
 \, to Baking Cookies for a Cause.
DTSTART;TZID=America/New_York:20230319T093000
DTEND;TZID=America/New_York:20230319T113000
END:VEVENT
END:VCALENDAR
