BEGIN:VCALENDAR
PRODID:-//eluceo/ical//2.0/EN
VERSION:2.0
CALSCALE:GREGORIAN
BEGIN:VEVENT
UID:a22f0a63f0602c31784f4027e7a964d1
DTSTAMP:20260424T033550Z
SUMMARY:"Jewish Hollywood - From the Catskills With Love"
DESCRIPTION:Jewish Federation in the Heart of New Jersey\nEvents\nhttps://j
 ewishheartnj.org/events/jewish-hollywood---from-the-catskills-with-love-16
 71829909\n\nThis Zoom event will discuss the Jewish comedians who were ver
 y successful in the Catskills resorts of New York.\n\nThis is a free Zoom 
 event\, but you must register at www.ebjc.org/New-Series-Filmshul.
DTSTART;TZID=America/New_York:20230112T203000
DTEND;TZID=America/New_York:20230123T220000
END:VEVENT
END:VCALENDAR
