BEGIN:VCALENDAR
PRODID:-//eluceo/ical//2.0/EN
VERSION:2.0
CALSCALE:GREGORIAN
BEGIN:VEVENT
UID:39d4c2655e7bfd2d007e452a8eb107e0
DTSTAMP:20260426T034806Z
SUMMARY:Jewish Federation Annual Meeting & Impact Celebration
DESCRIPTION:Jewish Federation in the Heart of New Jersey\nEvents\nhttps://j
 ewishheartnj.org/events/jewish-federation-annual-meeting--impact-celebrati
 on-1666377068\n\nJoin Federation and with our value community partners and
  supporters for The Annual Meeting\, where we will recognize important imp
 act we achieved together in 2022 and many of the individuals and organizat
 ions who played key roles. In addition\, we will conduct year-end business
 \, including electing new board members and officers.
DTSTART;TZID=America/New_York:20221208T190000
DTEND;TZID=America/New_York:20221208T210000
END:VEVENT
END:VCALENDAR
