BEGIN:VCALENDAR
PRODID:-//eluceo/ical//2.0/EN
VERSION:2.0
CALSCALE:GREGORIAN
BEGIN:VEVENT
UID:fd6c0790c3caa7fe498fc3deca287546
DTSTAMP:20260425T212904Z
SUMMARY:Jewish Family & Children's Service of Monmouth County Annual Meetin
 g
DESCRIPTION:Jewish Federation in the Heart of New Jersey\nEvents\nhttps://j
 ewishheartnj.org/events/jewish-family--childrens-service-of-monmouth-count
 y-annual-meeting-1666714379\n\nJoin Jewish Family & Children&#39\;s Servic
 e for a light dinner at our Annual Meeting where we will share our agency&
 #39\;s impact and recognize outstanding volunteers for 2022. Please RSVP t
 o Lisa at 732 774-6886 X10 or lisaw@jfcsmonmouth.org
DTSTART;TZID=America/New_York:20221206T180000
DTEND;TZID=America/New_York:20221206T210000
END:VEVENT
END:VCALENDAR
