BEGIN:VCALENDAR
PRODID:-//eluceo/ical//2.0/EN
VERSION:2.0
CALSCALE:GREGORIAN
BEGIN:VEVENT
UID:93619d9faca79dc704c00b82f89c5115
DTSTAMP:20260425T215622Z
SUMMARY:Jewish Education Conference - SESL
DESCRIPTION:Jewish Federation in the Heart of New Jersey\nEvents\nhttps://j
 ewishheartnj.org/events/jewish-education-conference---sesl-1666211307\n\nJ
 ewish Education Conference - Social Emotional Spiritual Learning - for Jew
 ish supplemental educators. A guest speaker will facilitate this in-person
  conference\, with a second zoom conference to follow
DTSTART;TZID=America/New_York:20230129T130000
DTEND;TZID=America/New_York:20230129T150000
END:VEVENT
END:VCALENDAR
