BEGIN:VCALENDAR
PRODID:-//eluceo/ical//2.0/EN
VERSION:2.0
CALSCALE:GREGORIAN
BEGIN:VEVENT
UID:759ff1745463a512845b8bb50f25000a
DTSTAMP:20260426T000908Z
SUMMARY:Jewish Community Campus Barbeque!
DESCRIPTION:Jewish Federation in the Heart of New Jersey\nEvents\nhttps://j
 ewishheartnj.org/events/jewish-community-campus-barbeque-1682354824\n\nJoi
 n Temple Emanu-El for a fun-filled day of food\, games and more! All are w
 elcome!
DTSTART;TZID=America/New_York:20230521T160000
DTEND;TZID=America/New_York:20230521T180000
END:VEVENT
END:VCALENDAR
