BEGIN:VCALENDAR
PRODID:-//eluceo/ical//2.0/EN
VERSION:2.0
CALSCALE:GREGORIAN
BEGIN:VEVENT
UID:c29c6e6ded64fa257bd923a36a955406
DTSTAMP:20260420T143553Z
SUMMARY:Jewish Business & Professionals Networking Happy Hour
DESCRIPTION:Jewish Federation in the Heart of New Jersey\nEvents\nhttps://j
 ewishheartnj.org/events/jewish-business--professionals-networking-happy-ho
 ur-1693338593\n\nJCC of Middlesex County is bringing together local Jewish
  Business Owners and Professionals!\n\nBe part of the JCC&#39\;s *NEW* Jew
 ish Business and Professional affinity group.\n\nJoin us at our inaugural 
 networking event for the JCC&#39\;s *NEW* Jewish Business and Professional
 s affinity group. Meet and connect with lawyers\, doctors\, real estate pr
 ofessionals\, business owners and more throughout Middlesex County- ALL PR
 OFESSIONS WELCOME!\n\nWith special guest\, Mayor Jonathan Busch of Metuche
 n.\n\nLigh...
DTSTART;TZID=America/New_York:20231011T183000
DTEND;TZID=America/New_York:20231011T203000
END:VEVENT
END:VCALENDAR
