BEGIN:VCALENDAR
PRODID:-//eluceo/ical//2.0/EN
VERSION:2.0
CALSCALE:GREGORIAN
BEGIN:VEVENT
UID:ca4147fca55bfc11ca609e5fb13cab6f
DTSTAMP:20260425T180940Z
SUMMARY:Jewish Baseball with Rabbi Langer
DESCRIPTION:Jewish Federation in the Heart of New Jersey\nEvents\nhttps://j
 ewishheartnj.org/events/jewish-baseball-with-rabbi-langer-1675273104\n\nDo
 n&#39\;t strike out and miss this interesting conversation about the trial
 s and tribulations of Jews in Baseball\, the famous players and not-so-fam
 ous.\n\nRSVP to Freehold Jewish Center at the Synagogue Office by Thursday
 \, April 27th\, 732-462-0254.
DTSTART;TZID=America/New_York:20230430T100000
DTEND;TZID=America/New_York:20230430T120000
END:VEVENT
END:VCALENDAR
