BEGIN:VCALENDAR
PRODID:-//eluceo/ical//2.0/EN
VERSION:2.0
CALSCALE:GREGORIAN
BEGIN:VEVENT
UID:5e35dc096c4ac80bd60e0ba1109e6262
DTSTAMP:20260422T122650Z
SUMMARY:JCC of Middlesex County Trip to Wind Creek Casino
DESCRIPTION:Jewish Federation in the Heart of New Jersey\nEvents\nhttps://j
 ewishheartnj.org/events/jcc-of-middlesex-county-trip-to-wind-creek-casino-
 1693329258\n\nBus leaves JCC at 8:45 AM\nCost: $40/person\; gratuities inc
 luded (Receive $25 in slot play)\nPlease make check payable to JCC Adult C
 lub. No credit cards are accepted.\nChoice of bus seat made at the time of
  payment.\n\nTo Register: Stop at the JCC Member Services Desk @ 1775 Oak 
 Tree Road\, Edison.\n***Must be 21 of age or older to register.\n\nFor mor
 e information please visit jccmc.org or call the JCC Member Services Desk 
 at 732-494-3232. In case of inclement weather please call the JCC or ...
DTSTART;TZID=America/New_York:20231023T084500
DTEND;TZID=America/New_York:20231023T170000
END:VEVENT
END:VCALENDAR
