BEGIN:VCALENDAR
PRODID:-//eluceo/ical//2.0/EN
VERSION:2.0
CALSCALE:GREGORIAN
BEGIN:VEVENT
UID:d59c33f71baa4d45244b596438190a17
DTSTAMP:20260424T115705Z
SUMMARY:JCC of Middlesex County Pickleball Tournament
DESCRIPTION:Jewish Federation in the Heart of New Jersey\nEvents\nhttps://j
 ewishheartnj.org/events/jcc-of-middlesex-county-pickleball-tournament-1679
 080488\n\nWednesday\, May 17th\, 2023\n\n(Rain date: Thursday May 18th\, 2
 023)\n\n11:00AM - 3:30PM\n\nAt the outdoor Pickleball Courts at Community 
 Park on Dunhams Corner Road in East Brunswick.This is a non-sanctioned\, r
 ound robin tournament for Intermediate & Advanced Beginner Players\n\nGame
  play details will be sent upon registration\n\nPrizes\, give-a-ways\, 50/
 50 RAFFLE\, drinks and healthy snacks
DTSTART;TZID=America/New_York:20230517T110000
DTEND;TZID=America/New_York:20230517T153000
END:VEVENT
END:VCALENDAR
