BEGIN:VCALENDAR
PRODID:-//eluceo/ical//2.0/EN
VERSION:2.0
CALSCALE:GREGORIAN
BEGIN:VEVENT
UID:f8b5f6f603dfa700f6257ab5166ffd20
DTSTAMP:20260420T235420Z
SUMMARY:JCC of Middlesex County HANUKKAH LUNCHEON
DESCRIPTION:Jewish Federation in the Heart of New Jersey\nEvents\nhttps://j
 ewishheartnj.org/events/jcc-of-middlesex-county-hanukkah-luncheon-16934914
 52\n\nJoin us as we celebrate the joyous holiday of Hanukkah together at o
 ur HANUKKAH LUNCHEON!\nTraditional Holiday Meal Complete with Latkes.\n\nE
 ARLY BIRD PRICING: Register by Nov. 30\n$18/ Members \; $22/Guests\n\nSTAN
 DARD PRICING: Register from Dec. 1 - Dec. 6\n$20/Members \; $25/Guests\n\n
 NO REGISTRAION AFTER WEDNESDAY DEC. 6.\nSorry\, no refunds.\n\nMusical Ent
 ertainment with Pam Jorgensen.
DTSTART;TZID=America/New_York:20231214T113000
DTEND;TZID=America/New_York:20231214T140000
END:VEVENT
END:VCALENDAR
