BEGIN:VCALENDAR
PRODID:-//eluceo/ical//2.0/EN
VERSION:2.0
CALSCALE:GREGORIAN
BEGIN:VEVENT
UID:adfa49cd654aee641b2dd731ed92750c
DTSTAMP:20260422T193956Z
SUMMARY:JCC of Middlesex County- Container Garden with Nisha Khana
DESCRIPTION:Jewish Federation in the Heart of New Jersey\nEvents\nhttps://j
 ewishheartnj.org/events/jcc-of-middlesex-county--container-garden-with-nis
 ha-khana-1693414505\n\nNisha Khana\, a certified landscape designer and ow
 ner of Growing Gardens will teach us the What? Why? Where? When? and How? 
 of growing everything from lettuce to trees in containers.\n\nCOST:\n$8/Me
 mbers and $11/Guests\nSorry\, no refunds.\n\nAdvance Registration Requeste
 d.
DTSTART;TZID=America/New_York:20231003T133000
DTEND;TZID=America/New_York:20231003T153000
END:VEVENT
END:VCALENDAR
