BEGIN:VCALENDAR
PRODID:-//eluceo/ical//2.0/EN
VERSION:2.0
CALSCALE:GREGORIAN
BEGIN:VEVENT
UID:c11095d763506607aabdd863a5836ad8
DTSTAMP:20260421T132713Z
SUMMARY:JCC Movie Talk: Shirley
DESCRIPTION:Jewish Federation in the Heart of New Jersey\nEvents\nhttps://j
 ewishheartnj.org/events/jcc-movie-talk-shirley-1711647180\n\nLAURIE POST P
 RESENTS JCC MOVIE TALK Via ZOOM Only\nFree and Open to the Community\n\nSh
 irley\, starring Regina King\, tells the story of Shirley Chisholm\, the f
 irst Black congresswoman and presidential candidate. Directed by John Ridl
 ey\, the film explores Chisholm&#39\;s historic campaign in 1972.\nAvailab
 le on Netflix.\n\nView films on your own prior to the date and share your 
 thoughts at our movie talk.\nRegistration required by 12PM on day of progr
 am to receive Zoom information.
DTSTART;TZID=America/New_York:20240529T193000
DTEND;TZID=America/New_York:20240529T203000
END:VEVENT
END:VCALENDAR
