BEGIN:VCALENDAR
PRODID:-//eluceo/ical//2.0/EN
VERSION:2.0
CALSCALE:GREGORIAN
BEGIN:VEVENT
UID:bc7249eac5b628177cf105453a0f6cb4
DTSTAMP:20260421T113611Z
SUMMARY:JCC Movie Talk: Anatomy of a Fall
DESCRIPTION:Jewish Federation in the Heart of New Jersey\nEvents\nhttps://j
 ewishheartnj.org/events/jcc-movie-talk-anatomy-of-a-fall-1711647034\n\nLAU
 RIE POST PRESENTS JCC MOVIE TALK. Via ZOOM Only.\n\n"Anatomy of a Fall" - 
 A woman is suspected of murder after her husband&#39\;s death. Their half-
 blind son faces a moral dilemma as the main witness. 2024 Oscar nominee fo
 r Best Motion Picture of the Year. Available on Amazon Prime Video and App
 le TV.\n\nView films on your own prior to the date and share your thoughts
  at our movie talk.\nRegistration required by 12PM on day of program to re
 ceive Zoom information.
DTSTART;TZID=America/New_York:20240417T193000
DTEND;TZID=America/New_York:20240417T203000
END:VEVENT
END:VCALENDAR
