BEGIN:VCALENDAR
PRODID:-//eluceo/ical//2.0/EN
VERSION:2.0
CALSCALE:GREGORIAN
BEGIN:VEVENT
UID:8f197f16a1fe697ae40b188a28d27b7a
DTSTAMP:20260420T085548Z
SUMMARY:It's TEE Time!
DESCRIPTION:Jewish Federation in the Heart of New Jersey\nEvents\nhttps://j
 ewishheartnj.org/events/its-tee-time-1742913694\n\nJoin Temple Emanu-El fo
 r a fun time at Top Golf!
DTSTART;TZID=America/New_York:20250403T193000
DTEND;TZID=America/New_York:20250403T203000
END:VEVENT
END:VCALENDAR
