BEGIN:VCALENDAR
PRODID:-//eluceo/ical//2.0/EN
VERSION:2.0
CALSCALE:GREGORIAN
BEGIN:VEVENT
UID:ff51c1f9beddb4b933030f32e9ead556
DTSTAMP:20260422T111949Z
SUMMARY:Israel@75 Celebration
DESCRIPTION:Jewish Federation in the Heart of New Jersey\nEvents\nhttps://j
 ewishheartnj.org/events/israel75-celebration-1682361862\n\nCome\, celebrat
 e Israel's 75th year of statehood with us by joining in a variety of activ
 ities that enable us to feel the spirit of Israel.
DTSTART;TZID=America/New_York:20230611T140000
DTEND;TZID=America/New_York:20230611T180000
END:VEVENT
END:VCALENDAR
