BEGIN:VCALENDAR
PRODID:-//eluceo/ical//2.0/EN
VERSION:2.0
CALSCALE:GREGORIAN
BEGIN:VEVENT
UID:6b9d8a55d817e77b170089f1f86544d1
DTSTAMP:20260423T013458Z
SUMMARY:Israel at 75! Community Wide Celebration
DESCRIPTION:Jewish Federation in the Heart of New Jersey\nEvents\nhttps://j
 ewishheartnj.org/events/israel-at-75-community-wide-celebration-1675965665
 \n\nCongregation B'nai Tikvah celebrates Israel at 75 with a Community-Wid
 e Celebration\, which includes a free PJ Library Big Birthday Bash\, a fre
 e Israeli Fair which includes food and Israeli items for sale\, and Israel
 i Advocacy information\, and lots of family fun!
DTSTART;TZID=America/New_York:20230430T140000
DTEND;TZID=America/New_York:20230430T170000
END:VEVENT
END:VCALENDAR
