BEGIN:VCALENDAR
PRODID:-//eluceo/ical//2.0/EN
VERSION:2.0
CALSCALE:GREGORIAN
BEGIN:VEVENT
UID:7850d532083afde2e9d5bd653c453603
DTSTAMP:20260424T140522Z
SUMMARY:International Holocaust Remembrance Day Commemoration
DESCRIPTION:Jewish Federation in the Heart of New Jersey\nEvents\nhttps://j
 ewishheartnj.org/events/international-holocaust-remembrance-day-commemorat
 ion-1668531129\n\nPrivate Good Luck is the remarkable memoir of a teenage 
 Jewish immigrant turned American infantryman in WWII fighting on the front
  lines to defend his newfound freedom\, champion the honor of his people\,
  and save the family he left behind. It’s not just an immigrant’s stor
 y. It’s not just a soldier's story. Nor is it just a Holocaust story. Ab
 ove all\, Private Good Luck teaches the dignity of difference\, and will r
 enew your faith in our shared humanity. Documented by extensive primary...
DTSTART;TZID=America/New_York:20230129T120000
DTEND;TZID=America/New_York:20230129T140000
END:VEVENT
END:VCALENDAR
