BEGIN:VCALENDAR
PRODID:-//eluceo/ical//2.0/EN
VERSION:2.0
CALSCALE:GREGORIAN
BEGIN:VEVENT
UID:c1066f619aa800e208c5c321919c5c23
DTSTAMP:20260425T004200Z
SUMMARY:Interfaith Neighbors Hosts Gala Celebrating 35 Years
DESCRIPTION:Jewish Federation in the Heart of New Jersey\nEvents\nhttps://j
 ewishheartnj.org/events/interfaith-neighbors-hosts-gala-celebrating-35-yea
 rs-1681738109\n\nJoin Interfaith Neighbors at Eagle Oaks Country Club in F
 armingdale to celebrate the 35th Anniversary of Interfaith Neighbors\, Inc
 . Rabbi Sally Priesand will be presented with the Distinguished Service Aw
 ard for her 35 years of service to Interfaith Neighbors and Peter Cancro w
 ill receive the Outstanding Citizen Award.
DTSTART;TZID=America/New_York:20230518T180000
DTEND;TZID=America/New_York:20230518T200000
END:VEVENT
END:VCALENDAR
