BEGIN:VCALENDAR
PRODID:-//eluceo/ical//2.0/EN
VERSION:2.0
CALSCALE:GREGORIAN
BEGIN:VEVENT
UID:4cfd6d59e74fac711ae84ff22068302e
DTSTAMP:20260424T024749Z
SUMMARY:In Our Own Hands
DESCRIPTION:Jewish Federation in the Heart of New Jersey\nEvents\nhttps://j
 ewishheartnj.org/events/in-our-own-hands-1678299098\n\nThe JCC of Middlese
 x County Celebrates Israel @ 75. Showing of the moving documentary "In You
 r Own Hands"\; the story of a Jewish Brigade that served in WWII.
DTSTART;TZID=America/New_York:20230404T131500
DTEND;TZID=America/New_York:20230404T151500
END:VEVENT
END:VCALENDAR
