BEGIN:VCALENDAR
PRODID:-//eluceo/ical//2.0/EN
VERSION:2.0
CALSCALE:GREGORIAN
BEGIN:VEVENT
UID:d4bbfc60afbb8eb736ca8d42de397ffd
DTSTAMP:20260419T124305Z
SUMMARY:Humans of October 7th
DESCRIPTION:Jewish Federation in the Heart of New Jersey\nEvents\nhttps://j
 ewishheartnj.org/events/humans-of-october-7th-1713538977\n\nJoin us for a 
 Photography Exhibition and Talk with with Israeli photojournalist Erez Kag
 anovitz.\n\nSince the October 7th horrific attack\, the incitement on the 
 streets and on social media has fueled antisemitism and misconceptions abo
 ut Israel and the Jewish people at large. As an artist and a photojournali
 st\, Erez Kaganovitz feels it is imperative to fight back against these mi
 sconceptions and rising antisemitism by showing the human side of Israel. 
 From his experience\, highlighting the...
DTSTART;TZID=America/New_York:20240513T190000
DTEND;TZID=America/New_York:20240513T210000
END:VEVENT
END:VCALENDAR
