BEGIN:VCALENDAR
PRODID:-//eluceo/ical//2.0/EN
VERSION:2.0
CALSCALE:GREGORIAN
BEGIN:VEVENT
UID:7c33f045a7448629998cb547e4104856
DTSTAMP:20260424T133448Z
SUMMARY:HPCT-CAE Shabbat Lunch
DESCRIPTION:Jewish Federation in the Heart of New Jersey\nEvents\nhttps://j
 ewishheartnj.org/events/hpct-cae-shabbat-lunch-1671025203\n\nThis event is
  for Young Professionals and families with kids 18 and under.
DTSTART;TZID=America/New_York:20230107T121500
DTEND;TZID=America/New_York:20230107T141500
END:VEVENT
END:VCALENDAR
