BEGIN:VCALENDAR
PRODID:-//eluceo/ical//2.0/EN
VERSION:2.0
CALSCALE:GREGORIAN
BEGIN:VEVENT
UID:37a531329a80abf8e440b5a22859a782
DTSTAMP:20260423T013105Z
SUMMARY:HPCT-CAE Purim Carnival
DESCRIPTION:Jewish Federation in the Heart of New Jersey\nEvents\nhttps://j
 ewishheartnj.org/events/hpct-cae-purim-carnival-1675785642\n\nPurim carniv
 al sponsored by our USY chapter! Join for pizza\, hamentashen\, games\, an
 d prizes! Price TBA!
DTSTART;TZID=America/New_York:20230305T110000
DTEND;TZID=America/New_York:20230305T130000
END:VEVENT
END:VCALENDAR
