BEGIN:VCALENDAR
PRODID:-//eluceo/ical//2.0/EN
VERSION:2.0
CALSCALE:GREGORIAN
BEGIN:VEVENT
UID:433b5572e4db57a7fa2f450bc9692255
DTSTAMP:20260424T192739Z
SUMMARY:HPCT-CAE Magic Show and Megillah Reading
DESCRIPTION:Jewish Federation in the Heart of New Jersey\nEvents\nhttps://j
 ewishheartnj.org/events/hpct-cae-magic-show-and-megillah-reading-167578573
 1\n\nJoin us for a MAGIC SHOW before Megillah Reading! Come in your Purim 
 costume for magic and rabbit petting\, followed by the reading of the megi
 llah! Open to all ages.
DTSTART;TZID=America/New_York:20230306T173000
DTEND;TZID=America/New_York:20230306T193000
END:VEVENT
END:VCALENDAR
