BEGIN:VCALENDAR
PRODID:-//eluceo/ical//2.0/EN
VERSION:2.0
CALSCALE:GREGORIAN
BEGIN:VEVENT
UID:de789f4b52089cadfc33f7b06e61de8e
DTSTAMP:20260426T023754Z
SUMMARY:Holiday Boutique
DESCRIPTION:Jewish Federation in the Heart of New Jersey\nEvents\nhttps://j
 ewishheartnj.org/events/holiday-boutique-1666622581\n\nCongregation B&#39\
 ;nai Israel is excited to present our 6th annual Holiday Boutique! Shop ov
 er 30 local vendors such as Bungalow Road\, Sport Couture\, Rustic Eve\, G
 reenlines and Venees to name a few! The boutique will be open Wednesday\, 
 November 30th from 1:00 pm to 7:00 pm. #shopandbuy4cbi #dreamGIVE
DTSTART;TZID=America/New_York:20221130T130000
DTEND;TZID=America/New_York:20221130T190000
END:VEVENT
END:VCALENDAR
