BEGIN:VCALENDAR
PRODID:-//eluceo/ical//2.0/EN
VERSION:2.0
CALSCALE:GREGORIAN
BEGIN:VEVENT
UID:0070cf2fcf08ceba0e4d8409cafc1abe
DTSTAMP:20260424T165938Z
SUMMARY:History of the World's Fair
DESCRIPTION:Jewish Federation in the Heart of New Jersey\nEvents\nhttps://j
 ewishheartnj.org/events/history-of-the-worlds-fair-1669665495\n\nJoin JCC 
 of Middlesex for a hybrid lecture by Steve Pollack will explore World&#39\
 ;s Fairs for the last two centuries. Plus a look at the World&#39\;s Fairs
  to come.
DTSTART;TZID=America/New_York:20230103T133000
DTEND;TZID=America/New_York:20230103T150000
END:VEVENT
END:VCALENDAR
