BEGIN:VCALENDAR
PRODID:-//eluceo/ical//2.0/EN
VERSION:2.0
CALSCALE:GREGORIAN
BEGIN:VEVENT
UID:cc33f6079706030ce6d7bc4e3d37cc70
DTSTAMP:20260419T222121Z
SUMMARY:Happy Birthday Israel
DESCRIPTION:Jewish Federation in the Heart of New Jersey\nEvents\nhttps://j
 ewishheartnj.org/events/happy-birthday-israel-1677853462\n\nA celebration 
 of Israeli life! A secular celebration open to the public!
DTSTART;TZID=America/New_York:20230910T130000
DTEND;TZID=America/New_York:20230910T150000
END:VEVENT
END:VCALENDAR
