BEGIN:VCALENDAR
PRODID:-//eluceo/ical//2.0/EN
VERSION:2.0
CALSCALE:GREGORIAN
BEGIN:VEVENT
UID:e9640f92a1b8640bd6f729f84502b9ad
DTSTAMP:20260423T115853Z
SUMMARY:Global Day Of Jewish Learning
DESCRIPTION:Jewish Federation in the Heart of New Jersey\nEvents\nhttps://j
 ewishheartnj.org/events/global-day-of-jewish-learning-1696972696\n\nGlobal
  Day Of Jewish Learning will be held on Sunday November 5th at 2:00pm at t
 he East Brunswick Public Library \, 2 Jean Walling Civic Center East Bruns
 wick\, NJ 08816
DTSTART;TZID=America/New_York:20231105T140000
DTEND;TZID=America/New_York:20231105T160000
END:VEVENT
END:VCALENDAR
