BEGIN:VCALENDAR
PRODID:-//eluceo/ical//2.0/EN
VERSION:2.0
CALSCALE:GREGORIAN
BEGIN:VEVENT
UID:8450c8898d8d186671faa735945dc28f
DTSTAMP:20260420T004617Z
SUMMARY:Global Connections with Robert Siegel: How to be a Better Person
DESCRIPTION:Jewish Federation in the Heart of New Jersey\nEvents\nhttps://j
 ewishheartnj.org/events/global-connections-with-robert-siegel-how-to-be-a-
 better-person-1707157989\n\nRobert Siegel (NPR) interviews: David Brooks\,
  Robert J. Waldinger\, Rabbi David Wolpe
DTSTART;TZID=America/New_York:20240214T160000
DTEND;TZID=America/New_York:20240214T170000
END:VEVENT
END:VCALENDAR
