BEGIN:VCALENDAR
PRODID:-//eluceo/ical//2.0/EN
VERSION:2.0
CALSCALE:GREGORIAN
BEGIN:VEVENT
UID:c183658dc3d0e595f776880b44cffc29
DTSTAMP:20260422T153356Z
SUMMARY:Global Connections with Robert Siegel: Changing Times in Real Estat
 e
DESCRIPTION:Jewish Federation in the Heart of New Jersey\nEvents\nhttps://j
 ewishheartnj.org/events/global-connections-with-robert-siegel-changing-tim
 es-in-real-estate-1684518695\n\nRobert Siegel (NPR) interviews: Scott Rech
 ler\, Professor Stijn Van Nieuwerburgh & Professor Larry Susskind
DTSTART;TZID=America/New_York:20230614T160000
DTEND;TZID=America/New_York:20230614T170000
END:VEVENT
END:VCALENDAR
