BEGIN:VCALENDAR
PRODID:-//eluceo/ical//2.0/EN
VERSION:2.0
CALSCALE:GREGORIAN
BEGIN:VEVENT
UID:5b6c8c555947a177c7d04199e174ff25
DTSTAMP:20260422T234144Z
SUMMARY:Global Connections:  Who’s Afraid of Artificial Intelligence?
DESCRIPTION:Jewish Federation in the Heart of New Jersey\nEvents\nhttps://j
 ewishheartnj.org/events/global-connections--whos-afraid-of-artificial-inte
 lligence-1680547573\n\nGlobal Connections with Robert Siegel: Who’s Afra
 id of Artificial Intelligence?\n\nRobert Siegel (former Senior Host of NPR
 ’s All Things Considered for 31 years) interviews:\nSherry Turkle (Abby 
 Rockefeller Mauzé Professor\, Social Studies of Science & Technology\, M.
 I.T.)\nDaniel Rockmore (Neukom Institute for Computational Science Profess
 or\, Dartmouth College)\nLeor Perl\, MD (Rabin Medical Center Innovation C
 enter)\n\nWednesday\, April 19th @ 4pm ET\nFREE REGISTRATION: https://glob
 alconne...
DTSTART;TZID=America/New_York:20230419T160000
DTEND;TZID=America/New_York:20230419T170000
END:VEVENT
END:VCALENDAR
