BEGIN:VCALENDAR
PRODID:-//eluceo/ical//2.0/EN
VERSION:2.0
CALSCALE:GREGORIAN
BEGIN:VEVENT
UID:26bbfe7e7b12f6d75b3e2c816d21c1c8
DTSTAMP:20260423T072908Z
SUMMARY:Global Connections:  How Old is Too Old to Work and to Lead?
DESCRIPTION:Jewish Federation in the Heart of New Jersey\nEvents\nhttps://j
 ewishheartnj.org/events/global-connections--how-old-is-too-old-to-work-and
 -to-lead-1683646737\n\nRobert Siegel (NPR) interviews: Dr. Felix Benninger
  MD\, Professor Laura L. Carstensen\, & Jeffrey A. Sonnenfeld
DTSTART;TZID=America/New_York:20230516T160000
DTEND;TZID=America/New_York:20230516T170000
END:VEVENT
END:VCALENDAR
