BEGIN:VCALENDAR
PRODID:-//eluceo/ical//2.0/EN
VERSION:2.0
CALSCALE:GREGORIAN
BEGIN:VEVENT
UID:21683c6e576aa9fd94f1e1071f917690
DTSTAMP:20260425T153634Z
SUMMARY:Gil Troy: Redefining Zionism for a New Generation
DESCRIPTION:Jewish Federation in the Heart of New Jersey\nEvents\nhttps://j
 ewishheartnj.org/events/gil-troy-redefining-zionism-for-a-new-generation-1
 663264644\n\nJoin Anshe Emeth Memorial Temple for:  Syril & Dr. Norman Re
 itman Scholar in Residence\n\nWe are excited to welcome Professor Gil Troy
  as our Reitman Scholar in Residence for the weekend of December 9-11\, 20
 22. Professor Troy will speak 4 times over the course of the weekend:\nFri
 day\, December 9\, Services are at 6:00pm\, followed by a Shabbat Dinner. 
 Professor Troy will speak after dinner at 8:00pm: Why I am a Zionist: Towa
 rd a Robust\, Relevant\, Renewed Zionism For Us -- and Our Kids...\n\nSa..
 .
DTSTART;TZID=America/New_York:20221210T123000
DTEND;TZID=America/New_York:20221210T140000
END:VEVENT
END:VCALENDAR
