BEGIN:VCALENDAR
PRODID:-//eluceo/ical//2.0/EN
VERSION:2.0
CALSCALE:GREGORIAN
BEGIN:VEVENT
UID:7342f0060c775c2cc915bb94b3d9a424
DTSTAMP:20260422T203338Z
SUMMARY:GERSHOM GORENBERG: The Current Crisis in Israeli Politics and Socie
 ty
DESCRIPTION:Jewish Federation in the Heart of New Jersey\nEvents\nhttps://j
 ewishheartnj.org/events/gershom-gorenberg-the-current-crisis-in-israeli-po
 litics-and-society-1678990409\n\nAmerican-born Israeli author and analyst 
 Gershom Gorenberg is one of Israel’s leading social and political analys
 ts. He is the author of several highly-praised books: On the Temple Mount\
 , the settlement movement in the Occupied Territories\, Israeli culture\, 
 and most recently Nazi efforts in the Middle East. Gorenberg is a regular 
 contributor to The American Prospect and is currently a Visiting Fellow at
  the Columbia School of Journalism. \n\nWe are proud to host Gorenberg at 
 PJC. He will...
DTSTART;TZID=America/New_York:20230426T183000
DTEND;TZID=America/New_York:20230426T200000
END:VEVENT
END:VCALENDAR
