BEGIN:VCALENDAR
PRODID:-//eluceo/ical//2.0/EN
VERSION:2.0
CALSCALE:GREGORIAN
BEGIN:VEVENT
UID:834873936be9a488a41566172627cd96
DTSTAMP:20260424T024652Z
SUMMARY:Gender in the Text
DESCRIPTION:Jewish Federation in the Heart of New Jersey\nEvents\nhttps://j
 ewishheartnj.org/events/gender-in-the-text-1661970961\n\nFor millenia\, Je
 ws have grappled with the importance of gender and power\, and how they in
 teract with our obligations as Jews. Together with our Rabbinic Intern\, S
 ienna Lotenberg\, we will look at examples throughout the Jewish past wher
 e gender roles and ideologies were "challenging" - either to the authors o
 f our sources or to us as readers (often both!)\, from the Torah to the Ta
 lmud to the twenty-first century. No background in Jewish text\, Hebrew\, 
 history or gender studies required - only e...
DTSTART;TZID=America/New_York:20220917T104500
DTEND;TZID=America/New_York:20220917T120000
END:VEVENT
END:VCALENDAR
